BEGIN:VCALENDAR
VERSION:2.0
PRODID:-//Tulsa Dog Training Club - ECPv6.15.20//NONSGML v1.0//EN
CALSCALE:GREGORIAN
METHOD:PUBLISH
X-WR-CALNAME:Tulsa Dog Training Club
X-ORIGINAL-URL:https://tulsadogs.com
X-WR-CALDESC:Events for Tulsa Dog Training Club
REFRESH-INTERVAL;VALUE=DURATION:PT1H
X-Robots-Tag:noindex
X-PUBLISHED-TTL:PT1H
BEGIN:VTIMEZONE
TZID:America/Chicago
BEGIN:DAYLIGHT
TZOFFSETFROM:-0600
TZOFFSETTO:-0500
TZNAME:CDT
DTSTART:20230312T080000
END:DAYLIGHT
BEGIN:STANDARD
TZOFFSETFROM:-0500
TZOFFSETTO:-0600
TZNAME:CST
DTSTART:20231105T070000
END:STANDARD
BEGIN:DAYLIGHT
TZOFFSETFROM:-0600
TZOFFSETTO:-0500
TZNAME:CDT
DTSTART:20240310T080000
END:DAYLIGHT
BEGIN:STANDARD
TZOFFSETFROM:-0500
TZOFFSETTO:-0600
TZNAME:CST
DTSTART:20241103T070000
END:STANDARD
BEGIN:DAYLIGHT
TZOFFSETFROM:-0600
TZOFFSETTO:-0500
TZNAME:CDT
DTSTART:20250309T080000
END:DAYLIGHT
BEGIN:STANDARD
TZOFFSETFROM:-0500
TZOFFSETTO:-0600
TZNAME:CST
DTSTART:20251102T070000
END:STANDARD
BEGIN:DAYLIGHT
TZOFFSETFROM:-0600
TZOFFSETTO:-0500
TZNAME:CDT
DTSTART:20260308T080000
END:DAYLIGHT
BEGIN:STANDARD
TZOFFSETFROM:-0500
TZOFFSETTO:-0600
TZNAME:CST
DTSTART:20261101T070000
END:STANDARD
END:VTIMEZONE
BEGIN:VEVENT
DTSTART;TZID=America/Chicago:20241004T190000
DTEND;TZID=America/Chicago:20241004T200000
DTSTAMP:20260419T185850
CREATED:20231205T214712Z
LAST-MODIFIED:20241001T210625Z
UID:21732-1728068400-1728072000@tulsadogs.com
SUMMARY:TDTC Board Meeting
DESCRIPTION:Begins at 7:00 p.m.\n			\n			\n				\n				\n				\n				\n				\n				\n				\n				\n				\n				The TDTC Board will meet tonight to discuss club business.
URL:https://tulsadogs.com/events-calendar/tdtc-board-meeting-17/
LOCATION:Tulsa Dog Training Club\, 6307 S 107th E Ave\, Tulsa\, OK\, 74133\, United States
ATTACH;FMTTYPE=image/jpeg:https://tulsadogs.com/wp-content/uploads/2022/12/avi-richards-aYHgchNOsGY-unsplash-scaled.jpg
END:VEVENT
BEGIN:VEVENT
DTSTART;TZID=America/Chicago:20241012T080000
DTEND;TZID=America/Chicago:20241012T170000
DTSTAMP:20260419T185850
CREATED:20240722T215850Z
LAST-MODIFIED:20240722T220701Z
UID:22249-1728720000-1728752400@tulsadogs.com
SUMMARY:Scent Work Judge's Education Seminar
DESCRIPTION:Tulsa Dog Training Club will be holding an AKC Scent Work Judge’s Education Seminar on Saturday\, October 12\, 2024. \nThis one-day seminar satisfies the seminar option for new judge candidates and counts as continuing education for current judges. You must attend the entire day as a full participant to meet the AKC Scent Work seminar requirements. The seminar will be split between classroom instruction/discussion and hands-on activities. \nHands-on Learning\nParticipants acting as Judges and Stewards will break into groups to design searches for preselected classes and difficulty levels. After the demo dog runs the search\, the instructor will discuss the search design and hide placement with the group. The presenter will provide their evaluation. \nSpots are available for judges full participation spots as well as audit spots for those interested in furthering their Scent Work knowledge.\n			\n				Download Information Packet
URL:https://tulsadogs.com/events-calendar/scent-work-judges-education-seminar/
LOCATION:Tulsa Dog Training Club\, 6307 S 107th E Ave\, Tulsa\, OK\, 74133\, United States
ATTACH;FMTTYPE=image/jpeg:https://tulsadogs.com/wp-content/uploads/2024/07/professional-training-for-dogs-in-nosework-an-act-2024-02-21-16-55-32-utc-scaled.jpg
END:VEVENT
BEGIN:VEVENT
DTSTART;TZID=America/Chicago:20241019T141500
DTEND;TZID=America/Chicago:20241019T170000
DTSTAMP:20260419T185850
CREATED:20231205T202513Z
LAST-MODIFIED:20240521T173940Z
UID:21542-1729347300-1729357200@tulsadogs.com
SUMMARY:Show & Go
DESCRIPTION:
URL:https://tulsadogs.com/events-calendar/show-go-10-24/
LOCATION:Tulsa Dog Training Club\, 6307 S 107th E Ave\, Tulsa\, OK\, 74133\, United States
ATTACH;FMTTYPE=image/jpeg:https://tulsadogs.com/wp-content/uploads/2022/12/jordan-davis-JSfsK9VH4q8-unsplash-scaled.jpg
END:VEVENT
BEGIN:VEVENT
DTSTART;VALUE=DATE:20241025
DTEND;VALUE=DATE:20241026
DTSTAMP:20260419T185850
CREATED:20231205T211537Z
LAST-MODIFIED:20250307T050812Z
UID:21690-1729814400-1729900799@tulsadogs.com
SUMMARY:TDTC AKC Rally Trials
DESCRIPTION:Entry Method: First received \nALL BREED RALLY TRIALSThese trials will be held concurrently. \nFriday\, October 25\, 20248:00 am to 6:00 pm \n\nALL BREED OBEDIENCE TRIALSThese trials will be held consecutively. \nSaturday\, October 26\, 20247:00 am to 6:00 pm \nSunday\, October 27\, 20247:00 am to 3:00 pm \n			\n				Download Premium\n			\n			\n				\n				\n				\n				\n				\n				\n				\n				\n				\n				Rally is limited to eighty (80) entries per trial.Obedience is limited to eight (8) hours per judge per day. \nEntries will open at 12:00 p.m. (noon) on Monday\, September 16\, 2024\, at the Trial Secretary’s address. All entries received before this date will be returned. Overnight mail\, priority mail\, or certified mail must be sent with the “No Signature Required” waiver signed. Entries close at 12:00 p.m. (noon) on Friday\, October 11\, 2024\, after which time entries cannot be accepted\, canceled\, altered\, or substituted except as provided for in Chapter 11\, Section 6\, of the Rules Applying to Dog Shows.
URL:https://tulsadogs.com/events-calendar/tdtc-akc-rally-trials-6/
ATTACH;FMTTYPE=image/jpeg:https://tulsadogs.com/wp-content/uploads/2022/12/brayden-prato-U-p838gMFj4-unsplash-scaled.jpg
END:VEVENT
BEGIN:VEVENT
DTSTART;VALUE=DATE:20241026
DTEND;VALUE=DATE:20241028
DTSTAMP:20260419T185850
CREATED:20231205T211652Z
LAST-MODIFIED:20240330T010904Z
UID:21697-1729900800-1730073599@tulsadogs.com
SUMMARY:TDTC AKC Obedience Trials
DESCRIPTION:
URL:https://tulsadogs.com/events-calendar/tdtc-akc-obedience-trials-4/
ATTACH;FMTTYPE=image/jpeg:https://tulsadogs.com/wp-content/uploads/2022/12/brayden-prato-U-p838gMFj4-unsplash-scaled.jpg
END:VEVENT
BEGIN:VEVENT
DTSTART;VALUE=DATE:20241103
DTEND;VALUE=DATE:20241104
DTSTAMP:20260419T185850
CREATED:20231205T211935Z
LAST-MODIFIED:20241020T013323Z
UID:21704-1730592000-1730678399@tulsadogs.com
SUMMARY:TDTC AKC Agility Course Test
DESCRIPTION:TDTC will be having an Agility Course Test (ACT) Event on Sunday\, November 3\, 2024. \nCourses are mainly for Agility Beginners. If you have earned a Leg(s) in Novice Standard or Novice JWW\, but with NO AKC TITLE you can still enter. AKC Titles and ribbons are given for the successful completion of two (2) courses in any one class (ACT1\, ACT2\, ACTJ1\, ACTJ2). A “fun-filled” way to introduce you and your dog to a REAL Agility Trial. Volunteering at the Event gives you an introduction to how much it takes to put on an Agility Trial. Start to build handling skills and the many friendships that come with trialing. \nLimited to 120 runs. Pre-entries open on September 2\, 2024 and close October 18\, 2024. Pre-entries $20 per run or $25 per run day of event. \n			\n				Download Premium Here
URL:https://tulsadogs.com/events-calendar/copyof-tdtc-akc-agility-course-test/
ATTACH;FMTTYPE=image/png:https://tulsadogs.com/wp-content/uploads/2024/03/Nikko-Triple.png
END:VEVENT
BEGIN:VEVENT
DTSTART;TZID=America/Chicago:20241108T190000
DTEND;TZID=America/Chicago:20241108T200000
DTSTAMP:20260419T185850
CREATED:20231205T202344Z
LAST-MODIFIED:20240521T173903Z
UID:21530-1731092400-1731096000@tulsadogs.com
SUMMARY:TDTC General Meeting
DESCRIPTION:
URL:https://tulsadogs.com/events-calendar/tdtc-general-meeting-17/
LOCATION:Tulsa Dog Training Club\, 6307 S 107th E Ave\, Tulsa\, OK\, 74133\, United States
ATTACH;FMTTYPE=image/jpeg:https://tulsadogs.com/wp-content/uploads/2022/12/matt-nelson-aI3EBLvcyu4-unsplash.jpg
END:VEVENT
BEGIN:VEVENT
DTSTART;VALUE=DATE:20241116
DTEND;VALUE=DATE:20241117
DTSTAMP:20260419T185850
CREATED:20231205T210834Z
LAST-MODIFIED:20241020T013428Z
UID:21671-1731715200-1731801599@tulsadogs.com
SUMMARY:Canine Good Citizen
DESCRIPTION:The AKC Canine Good Citizen™ (CGC) program provides a perfect framework for training your dog to become a polite member of society. Based on you and your dog’s training needs\, you have multiple options to get started. \nYou can teach your dog the 10 CGC skills yourself\, work with a CGC trainer or attend a CGC training class where the test is given at the end of graduation. \nYour dog can pass the CGC test and earn CGC as a certificate only\, or you may choose to earn CGC as an official AKC title (includes certificate). With official AKC titles\, the title is listed on the dog’s Title Record\, and “CGC” may be listed after the dog’s name (e.g.\, “Princess\, CGC”). \nTo earn CGC as an official title\, dogs must have one of the 3 types of registration: 1) AKC number\, 2) Purebred Alternative Listing number (PAL)\, or 3) AKC Canine Partners number (For mixed-breed dogs). \nIf you apply for an AKC Canine Partners number at the same time as your dog’s Canine Good Citizen award\, a discount will be applied. Send this specialized CGC Form at the same time as your AKC Canine Partners Registration in the same envelope or email to receive the discount.\n			\n				Learn More on the AKC Website
URL:https://tulsadogs.com/events-calendar/canine-good-citizen-4/
LOCATION:Tulsa Dog Training Club\, 6307 S 107th E Ave\, Tulsa\, OK\, 74133\, United States
ATTACH;FMTTYPE=image/jpeg:https://tulsadogs.com/wp-content/uploads/2023/09/austin-kirk-QZenflkkwt0-unsplash-scaled.jpg
END:VEVENT
BEGIN:VEVENT
DTSTART;VALUE=DATE:20241118
DTEND;VALUE=DATE:20241123
DTSTAMP:20260419T185850
CREATED:20231205T203208Z
LAST-MODIFIED:20240521T173840Z
UID:21578-1731888000-1732319999@tulsadogs.com
SUMMARY:Fall Session Evaluations
DESCRIPTION:
URL:https://tulsadogs.com/events-calendar/fall-session-evaluations/
LOCATION:Tulsa Dog Training Club\, 6307 S 107th E Ave\, Tulsa\, OK\, 74133\, United States
ATTACH;FMTTYPE=image/jpeg:https://tulsadogs.com/wp-content/uploads/2019/06/sm_tdtc2019_r1_facebook.jpg
END:VEVENT
BEGIN:VEVENT
DTSTART;TZID=America/Chicago:20241122T190000
DTEND;TZID=America/Chicago:20241122T200000
DTSTAMP:20260419T185850
CREATED:20231205T214833Z
LAST-MODIFIED:20240401T205158Z
UID:21738-1732302000-1732305600@tulsadogs.com
SUMMARY:Beginners' Graduation
DESCRIPTION:Join us in celebrating your dog’s Beginners Obedience graduation! We’ll have demonstrations of other classes and membership information available as well.
URL:https://tulsadogs.com/events-calendar/beginners-graduation-3/
LOCATION:Tulsa Dog Training Club\, 6307 S 107th E Ave\, Tulsa\, OK\, 74133\, United States
ATTACH;FMTTYPE=image/jpeg:https://tulsadogs.com/wp-content/uploads/2022/12/rodolfo-sanches-carvalho-6yOg6cEHmgs-unsplash-scaled.jpg
END:VEVENT
BEGIN:VEVENT
DTSTART;VALUE=DATE:20241123
DTEND;VALUE=DATE:20241124
DTSTAMP:20260419T185850
CREATED:20231205T210927Z
LAST-MODIFIED:20241020T013534Z
UID:21675-1732320000-1732406399@tulsadogs.com
SUMMARY:Community Canine (GCG-A)
DESCRIPTION:AKC Community Canine is the advanced level of AKC’s Canine Good Citizen (CGC) program. \nAs with CGC\, AKC Community Canine has a 10-step test of skills that dogs must pass to earn the official AKC Community Canine title. This is a title that appears on the dog’s title record at AKC. \nAll skills on the test are tested on leash. The AKC Community Canine (CGCA) test may be done in a class\, at shows\, in pet stores or in the community. When the test is administered in community settings such as at a business or special event\, evaluators must have the necessary approval of the business owners\, etc. \nWhile Canine Good Citizen tests are simulations of real world skills\, (e.g.\, dog/handler walks through a “crowd” of evaluators in a ring)\, the goal of AKC Community Canine is to test the dog’s skills in a natural setting. For example\, rather than the dog being tested in a ring\, in AKC Community Canine\, the “walks through a crowd” test item will involve the dog walking through a real crowd at a dog show\, on a busy sidewalk\, in a therapy dog setting\, or at a training club. \nTo earn the AKC Community Canine title\, dogs must meet the following two requirements: \n\nThe CGC test and the AKC Community Canine test may be taken on the same day. However\, when taken on the same day\, both forms should be sent to AKC in one envelope so the CGC can be entered first.\nMust have an AKC number of one of 3 types (AKC registration number\, PAL number\, or AKC Canine Partners number). All dogs\, including mixed breeds\, can get an AKC number. The reason for the AKC number requirement is that this is how we create titles at AKC; we attach the titles to the dog’s number. \n\n			\n				Learn More on the AKC Website
URL:https://tulsadogs.com/events-calendar/community-canine-4/
LOCATION:Tulsa Dog Training Club\, 6307 S 107th E Ave\, Tulsa\, OK\, 74133\, United States
ATTACH;FMTTYPE=image/jpeg:https://tulsadogs.com/wp-content/uploads/2023/09/austin-kirk-QZenflkkwt0-unsplash-scaled.jpg
END:VEVENT
BEGIN:VEVENT
DTSTART;VALUE=DATE:20241206
DTEND;VALUE=DATE:20241209
DTSTAMP:20260419T185850
CREATED:20231205T212116Z
LAST-MODIFIED:20241129T001406Z
UID:21712-1733443200-1733702399@tulsadogs.com
SUMMARY:TDTC AKC Agility Trials
DESCRIPTION:AKC AGILITY TRIALS – DECEMBER 6-8\, 2024 – EXPO SQUARE RANGER ARENA – 4101 East 21st Street\, Tulsa\, OK 74114 \nThe Agility Gate code is 8382.  Maps will be available on Agility Gate the morning of each trial and will also be posted at the Ranger Arena each day. \nDownload Preliminary Judging Order HERE. \nDownload Preliminary Running Order HERE. \n 
URL:https://tulsadogs.com/events-calendar/tdtc-akc-agility-trials-6/
ATTACH;FMTTYPE=image/jpeg:https://tulsadogs.com/wp-content/uploads/2022/12/anna-dudkova-6EiHRos6Nz4-unsplash-scaled.jpg
END:VEVENT
BEGIN:VEVENT
DTSTART;TZID=America/Chicago:20241213T190000
DTEND;TZID=America/Chicago:20241213T200000
DTSTAMP:20260419T185850
CREATED:20231205T214752Z
LAST-MODIFIED:20240521T173743Z
UID:21735-1734116400-1734120000@tulsadogs.com
SUMMARY:TDTC Board Meeting
DESCRIPTION:Begins at 7:00 p.m.\n			\n			\n				\n				\n				\n				\n				\n				\n				\n				\n				\n				The TDTC Board will meet tonight to discuss club business.
URL:https://tulsadogs.com/events-calendar/tdtc-board-meeting-18/
LOCATION:Tulsa Dog Training Club\, 6307 S 107th E Ave\, Tulsa\, OK\, 74133\, United States
ATTACH;FMTTYPE=image/jpeg:https://tulsadogs.com/wp-content/uploads/2022/12/avi-richards-aYHgchNOsGY-unsplash-scaled.jpg
END:VEVENT
BEGIN:VEVENT
DTSTART;TZID=America/Chicago:20241214T190000
DTEND;TZID=America/Chicago:20241214T200000
DTSTAMP:20260419T185850
CREATED:20231205T202639Z
LAST-MODIFIED:20240521T173732Z
UID:21552-1734202800-1734206400@tulsadogs.com
SUMMARY:TDTC Christmas Party
DESCRIPTION:
URL:https://tulsadogs.com/events-calendar/tdtc-christmas-party-24/
LOCATION:Tulsa Dog Training Club\, 6307 S 107th E Ave\, Tulsa\, OK\, 74133\, United States
ATTACH;FMTTYPE=image/jpeg:https://tulsadogs.com/wp-content/uploads/2022/12/jakob-owens-mpnqu9o4b9w-unsplash-scaled.jpg
END:VEVENT
BEGIN:VEVENT
DTSTART;TZID=America/Chicago:20250104T173000
DTEND;TZID=America/Chicago:20250104T193000
DTSTAMP:20260419T185850
CREATED:20241206T232632Z
LAST-MODIFIED:20241217T224809Z
UID:22494-1736011800-1736019000@tulsadogs.com
SUMMARY:Show-N-Go
DESCRIPTION:More information will be added as the event is closer.
URL:https://tulsadogs.com/events-calendar/show-n-go/
LOCATION:Tulsa Dog Training Club\, 6307 S 107th E Ave\, Tulsa\, OK\, 74133\, United States
ATTACH;FMTTYPE=image/jpeg:https://tulsadogs.com/wp-content/uploads/2023/09/ron-fung-VQJXJ4IaU_o-unsplash-scaled.jpg
END:VEVENT
BEGIN:VEVENT
DTSTART;VALUE=DATE:20250106
DTEND;VALUE=DATE:20250107
DTSTAMP:20260419T185850
CREATED:20241206T232736Z
LAST-MODIFIED:20241206T232736Z
UID:22496-1736121600-1736207999@tulsadogs.com
SUMMARY:Winter Session Begins
DESCRIPTION:
URL:https://tulsadogs.com/events-calendar/winter-session-begins-2/
LOCATION:Tulsa Dog Training Club\, 6307 S 107th E Ave\, Tulsa\, OK\, 74133\, United States
ATTACH;FMTTYPE=image/jpeg:https://tulsadogs.com/wp-content/uploads/2022/12/matt-nelson-aI3EBLvcyu4-unsplash.jpg
END:VEVENT
BEGIN:VEVENT
DTSTART;VALUE=DATE:20250110
DTEND;VALUE=DATE:20250113
DTSTAMP:20260419T185850
CREATED:20241206T233000Z
LAST-MODIFIED:20250730T003144Z
UID:22498-1736467200-1736726399@tulsadogs.com
SUMMARY:TAC UKC Rally & Obedience Trials
DESCRIPTION:More information will be added once available.
URL:https://tulsadogs.com/events-calendar/tac-ukc-rally-obedience-trials/
LOCATION:Tulsa Dog Training Club\, 6307 S 107th E Ave\, Tulsa\, OK\, 74133\, United States
CATEGORIES:Tulsa Agility Club (TAC)
ATTACH;FMTTYPE=image/jpeg:https://tulsadogs.com/wp-content/uploads/2023/09/jamie-street-MoDcnVRN5JU-unsplash-scaled.jpg
END:VEVENT
BEGIN:VEVENT
DTSTART;TZID=America/Chicago:20250117T190000
DTEND;TZID=America/Chicago:20250117T200000
DTSTAMP:20260419T185850
CREATED:20241206T233057Z
LAST-MODIFIED:20241206T233057Z
UID:22500-1737140400-1737144000@tulsadogs.com
SUMMARY:General Meeting
DESCRIPTION:
URL:https://tulsadogs.com/events-calendar/general-meeting/
LOCATION:Tulsa Dog Training Club\, 6307 S 107th E Ave\, Tulsa\, OK\, 74133\, United States
ATTACH;FMTTYPE=image/jpeg:https://tulsadogs.com/wp-content/uploads/2023/09/mitchell-orr-389605-unsplash-scaled.jpeg
END:VEVENT
BEGIN:VEVENT
DTSTART;VALUE=DATE:20250201
DTEND;VALUE=DATE:20250202
DTSTAMP:20260419T185850
CREATED:20241206T233239Z
LAST-MODIFIED:20241206T233258Z
UID:22502-1738368000-1738454399@tulsadogs.com
SUMMARY:Awards Banquet
DESCRIPTION:Event information will be updated when more information is available.
URL:https://tulsadogs.com/events-calendar/awards-banquet/
ATTACH;FMTTYPE=image/jpeg:https://tulsadogs.com/wp-content/uploads/2022/12/avi-richards-aYHgchNOsGY-unsplash-scaled.jpg
END:VEVENT
BEGIN:VEVENT
DTSTART;VALUE=DATE:20250207
DTEND;VALUE=DATE:20250210
DTSTAMP:20260419T185850
CREATED:20241206T233440Z
LAST-MODIFIED:20250730T003140Z
UID:22504-1738886400-1739145599@tulsadogs.com
SUMMARY:TAC UKC Agility Trials
DESCRIPTION:Dynamic Hurdles start with Novice Trial 1 at 11:30 am on Friday\, February 7th. \nAgility starts with Intermediate Trial 1 at 8:00 am on Saturday\, February 8th. \nAgility starts with Beginner Trial 1 at 8:00 am on Sunday\, February 9th.
URL:https://tulsadogs.com/events-calendar/tac-ukc-agility-trials/
LOCATION:Tulsa Dog Training Club\, 6307 S 107th E Ave\, Tulsa\, OK\, 74133\, United States
CATEGORIES:Tulsa Agility Club (TAC)
ATTACH;FMTTYPE=image/jpeg:https://tulsadogs.com/wp-content/uploads/2023/09/murilo-viviani-FcegfS05w2c-unsplash-scaled.jpg
END:VEVENT
BEGIN:VEVENT
DTSTART;TZID=America/Chicago:20250207T173000
DTEND;TZID=America/Chicago:20250207T193000
DTSTAMP:20260419T185850
CREATED:20241206T233524Z
LAST-MODIFIED:20250205T013657Z
UID:22506-1738949400-1738956600@tulsadogs.com
SUMMARY:UKC Agility Fun Run - CANCELED
DESCRIPTION:We have decided to cancel the Fun Run scheduled for Friday\, February 7th.
URL:https://tulsadogs.com/events-calendar/agility-fun-run/
LOCATION:Tulsa Dog Training Club\, 6307 S 107th E Ave\, Tulsa\, OK\, 74133\, United States
ATTACH;FMTTYPE=image/jpeg:https://tulsadogs.com/wp-content/uploads/2023/09/mitchell-orr-PUY5xUszd3Y-unsplash-scaled.jpg
END:VEVENT
BEGIN:VEVENT
DTSTART;TZID=America/Chicago:20250214T190000
DTEND;TZID=America/Chicago:20250214T200000
DTSTAMP:20260419T185850
CREATED:20241206T233715Z
LAST-MODIFIED:20241206T233715Z
UID:22508-1739559600-1739563200@tulsadogs.com
SUMMARY:Board Meeting
DESCRIPTION:
URL:https://tulsadogs.com/events-calendar/board-meeting/
LOCATION:Tulsa Dog Training Club\, 6307 S 107th E Ave\, Tulsa\, OK\, 74133\, United States
ATTACH;FMTTYPE=image/jpeg:https://tulsadogs.com/wp-content/uploads/2023/09/jordan-whitt-cUFsB0dH9Xs-unsplash-scaled.jpg
END:VEVENT
BEGIN:VEVENT
DTSTART;TZID=America/Chicago:20250307T190000
DTEND;TZID=America/Chicago:20250307T200000
DTSTAMP:20260419T185850
CREATED:20241206T233914Z
LAST-MODIFIED:20241206T233914Z
UID:22510-1741374000-1741377600@tulsadogs.com
SUMMARY:General Meeting
DESCRIPTION:
URL:https://tulsadogs.com/events-calendar/general-meeting-2/
LOCATION:Tulsa Dog Training Club\, 6307 S 107th E Ave\, Tulsa\, OK\, 74133\, United States
ATTACH;FMTTYPE=image/jpeg:https://tulsadogs.com/wp-content/uploads/2023/09/mitchell-orr-389605-unsplash-scaled.jpeg
END:VEVENT
BEGIN:VEVENT
DTSTART;VALUE=DATE:20250310
DTEND;VALUE=DATE:20250311
DTSTAMP:20260419T185850
CREATED:20241206T234025Z
LAST-MODIFIED:20241206T234025Z
UID:22512-1741564800-1741651199@tulsadogs.com
SUMMARY:Winter Session Evaluations
DESCRIPTION:
URL:https://tulsadogs.com/events-calendar/winter-session-evaluations-2/
LOCATION:Tulsa Dog Training Club\, 6307 S 107th E Ave\, Tulsa\, OK\, 74133\, United States
ATTACH;FMTTYPE=image/jpeg:https://tulsadogs.com/wp-content/uploads/2022/12/matt-nelson-aI3EBLvcyu4-unsplash.jpg
END:VEVENT
BEGIN:VEVENT
DTSTART;TZID=America/Chicago:20250314T190000
DTEND;TZID=America/Chicago:20250314T200000
DTSTAMP:20260419T185850
CREATED:20241206T234222Z
LAST-MODIFIED:20241206T234222Z
UID:22514-1741978800-1741982400@tulsadogs.com
SUMMARY:Beginners Graduation
DESCRIPTION:
URL:https://tulsadogs.com/events-calendar/beginners-graduation-4/
END:VEVENT
BEGIN:VEVENT
DTSTART;TZID=America/Chicago:20250315T090000
DTEND;TZID=America/Chicago:20250315T100000
DTSTAMP:20260419T185850
CREATED:20241217T223256Z
LAST-MODIFIED:20241217T224201Z
UID:22613-1742029200-1742032800@tulsadogs.com
SUMMARY:Fit Dog Walk
DESCRIPTION:Learn more about the AKC’s Fit Dog Program here.
URL:https://tulsadogs.com/events-calendar/fit-dog-walk/
LOCATION:Tulsa Dog Training Club\, 6307 S 107th E Ave\, Tulsa\, OK\, 74133\, United States
ATTACH;FMTTYPE=image/jpeg:https://tulsadogs.com/wp-content/uploads/2024/12/monika-simeonova-yUdawywuYm0-unsplash-scaled.jpg
END:VEVENT
BEGIN:VEVENT
DTSTART;TZID=America/Chicago:20250315T130000
DTEND;TZID=America/Chicago:20250315T140000
DTSTAMP:20260419T185850
CREATED:20241206T234725Z
LAST-MODIFIED:20241217T222511Z
UID:22516-1742043600-1742047200@tulsadogs.com
SUMMARY:Canine Good Citizen (CGC)
DESCRIPTION:Event information will be updated when more information is available.
URL:https://tulsadogs.com/events-calendar/canine-good-citizen-5/
LOCATION:Tulsa Dog Training Club\, 6307 S 107th E Ave\, Tulsa\, OK\, 74133\, United States
ATTACH;FMTTYPE=image/jpeg:https://tulsadogs.com/wp-content/uploads/2023/09/mikhail-vasilyev-480824-unsplash-scaled.jpg
END:VEVENT
BEGIN:VEVENT
DTSTART;TZID=America/Chicago:20250322T130000
DTEND;TZID=America/Chicago:20250322T140000
DTSTAMP:20260419T185850
CREATED:20241206T234819Z
LAST-MODIFIED:20241217T222552Z
UID:22519-1742648400-1742652000@tulsadogs.com
SUMMARY:Community Canine (CGC-A)
DESCRIPTION:Event information will be updated when more information is available.
URL:https://tulsadogs.com/events-calendar/community-canine-cgc-a/
ATTACH;FMTTYPE=image/jpeg:https://tulsadogs.com/wp-content/uploads/2023/09/roger-chapman-M96JmCEMjfU-unsplash-scaled.jpg
END:VEVENT
BEGIN:VEVENT
DTSTART;TZID=America/Chicago:20250329T173000
DTEND;TZID=America/Chicago:20250329T193000
DTSTAMP:20260419T185850
CREATED:20241206T234908Z
LAST-MODIFIED:20241217T224830Z
UID:22521-1743269400-1743276600@tulsadogs.com
SUMMARY:Show-N-Go
DESCRIPTION:Event information will be updated when more information is available.
URL:https://tulsadogs.com/events-calendar/show-n-go-2/
LOCATION:Tulsa Dog Training Club\, 6307 S 107th E Ave\, Tulsa\, OK\, 74133\, United States
ATTACH;FMTTYPE=image/jpeg:https://tulsadogs.com/wp-content/uploads/2022/12/brayden-prato-U-p838gMFj4-unsplash-scaled.jpg
END:VEVENT
BEGIN:VEVENT
DTSTART;VALUE=DATE:20250331
DTEND;VALUE=DATE:20250401
DTSTAMP:20260419T185850
CREATED:20241206T235025Z
LAST-MODIFIED:20241206T235025Z
UID:22523-1743379200-1743465599@tulsadogs.com
SUMMARY:Spring Session Starts
DESCRIPTION:
URL:https://tulsadogs.com/events-calendar/spring-session-starts/
ATTACH;FMTTYPE=image/jpeg:https://tulsadogs.com/wp-content/uploads/2022/12/matt-nelson-aI3EBLvcyu4-unsplash.jpg
END:VEVENT
END:VCALENDAR