BEGIN:VCALENDAR
VERSION:2.0
PRODID:-//Tulsa Dog Training Club - ECPv6.15.20//NONSGML v1.0//EN
CALSCALE:GREGORIAN
METHOD:PUBLISH
X-WR-CALNAME:Tulsa Dog Training Club
X-ORIGINAL-URL:https://tulsadogs.com
X-WR-CALDESC:Events for Tulsa Dog Training Club
REFRESH-INTERVAL;VALUE=DURATION:PT1H
X-Robots-Tag:noindex
X-PUBLISHED-TTL:PT1H
BEGIN:VTIMEZONE
TZID:America/Chicago
BEGIN:DAYLIGHT
TZOFFSETFROM:-0600
TZOFFSETTO:-0500
TZNAME:CDT
DTSTART:20250309T080000
END:DAYLIGHT
BEGIN:STANDARD
TZOFFSETFROM:-0500
TZOFFSETTO:-0600
TZNAME:CST
DTSTART:20251102T070000
END:STANDARD
BEGIN:DAYLIGHT
TZOFFSETFROM:-0600
TZOFFSETTO:-0500
TZNAME:CDT
DTSTART:20260308T080000
END:DAYLIGHT
BEGIN:STANDARD
TZOFFSETFROM:-0500
TZOFFSETTO:-0600
TZNAME:CST
DTSTART:20261101T070000
END:STANDARD
BEGIN:DAYLIGHT
TZOFFSETFROM:-0600
TZOFFSETTO:-0500
TZNAME:CDT
DTSTART:20270314T080000
END:DAYLIGHT
BEGIN:STANDARD
TZOFFSETFROM:-0500
TZOFFSETTO:-0600
TZNAME:CST
DTSTART:20271107T070000
END:STANDARD
BEGIN:DAYLIGHT
TZOFFSETFROM:-0600
TZOFFSETTO:-0500
TZNAME:CDT
DTSTART:20280312T080000
END:DAYLIGHT
BEGIN:STANDARD
TZOFFSETFROM:-0500
TZOFFSETTO:-0600
TZNAME:CST
DTSTART:20281105T070000
END:STANDARD
END:VTIMEZONE
BEGIN:VEVENT
DTSTART;VALUE=DATE:20260829
DTEND;VALUE=DATE:20260831
DTSTAMP:20260419T232849
CREATED:20251217T171440Z
LAST-MODIFIED:20251217T171440Z
UID:23629-1787961600-1788134399@tulsadogs.com
SUMMARY:AKC Rally Trials
DESCRIPTION:
URL:https://tulsadogs.com/events-calendar/akc-rally-trials-2/
LOCATION:OK
END:VEVENT
BEGIN:VEVENT
DTSTART;VALUE=DATE:20260905
DTEND;VALUE=DATE:20260906
DTSTAMP:20260419T232849
CREATED:20251217T171509Z
LAST-MODIFIED:20251217T171509Z
UID:23631-1788566400-1788652799@tulsadogs.com
SUMMARY:Community Canine (CGC-A)
DESCRIPTION:
URL:https://tulsadogs.com/events-calendar/community-canine-cgc-a-7/
LOCATION:OK
END:VEVENT
BEGIN:VEVENT
DTSTART;TZID=America/Chicago:20260911T190000
DTEND;TZID=America/Chicago:20260911T200000
DTSTAMP:20260419T232849
CREATED:20251217T171537Z
LAST-MODIFIED:20251217T171537Z
UID:23633-1789153200-1789156800@tulsadogs.com
SUMMARY:General Meeting
DESCRIPTION:
URL:https://tulsadogs.com/events-calendar/general-meeting-9/
LOCATION:OK
END:VEVENT
BEGIN:VEVENT
DTSTART;VALUE=DATE:20260914
DTEND;VALUE=DATE:20260919
DTSTAMP:20260419T232849
CREATED:20251217T171614Z
LAST-MODIFIED:20251217T171614Z
UID:23635-1789344000-1789775999@tulsadogs.com
SUMMARY:Fall Session Begins
DESCRIPTION:
URL:https://tulsadogs.com/events-calendar/fall-session-begins-3/
LOCATION:OK
END:VEVENT
BEGIN:VEVENT
DTSTART;TZID=America/Chicago:20261009T190000
DTEND;TZID=America/Chicago:20261009T200000
DTSTAMP:20260419T232849
CREATED:20251217T171927Z
LAST-MODIFIED:20251217T171927Z
UID:23637-1791572400-1791576000@tulsadogs.com
SUMMARY:Board Meeting
DESCRIPTION:
URL:https://tulsadogs.com/events-calendar/board-meeting-11/
LOCATION:OK
END:VEVENT
BEGIN:VEVENT
DTSTART;VALUE=DATE:20261017
DTEND;VALUE=DATE:20270817
DTSTAMP:20260419T232849
CREATED:20251217T172009Z
LAST-MODIFIED:20251217T172009Z
UID:23640-1792195200-1818460799@tulsadogs.com
SUMMARY:Show-N-Go
DESCRIPTION:
URL:https://tulsadogs.com/events-calendar/show-n-go-6/
LOCATION:OK
END:VEVENT
BEGIN:VEVENT
DTSTART;VALUE=DATE:20261023
DTEND;VALUE=DATE:20261026
DTSTAMP:20260419T232849
CREATED:20251217T172100Z
LAST-MODIFIED:20251217T172100Z
UID:23642-1792713600-1792972799@tulsadogs.com
SUMMARY:AKC Rally/Obedience Trials
DESCRIPTION:
URL:https://tulsadogs.com/events-calendar/akc-rally-obedience-trials/
LOCATION:OK
END:VEVENT
BEGIN:VEVENT
DTSTART;VALUE=DATE:20261101
DTEND;VALUE=DATE:20261102
DTSTAMP:20260419T232849
CREATED:20251217T173552Z
LAST-MODIFIED:20251226T181832Z
UID:23644-1793491200-1793577599@tulsadogs.com
SUMMARY:AKC Agility Course Test
DESCRIPTION:
URL:https://tulsadogs.com/events-calendar/ak-agility-course-test/
LOCATION:OK
END:VEVENT
BEGIN:VEVENT
DTSTART;TZID=America/Chicago:20261113T190000
DTEND;TZID=America/Chicago:20261113T200000
DTSTAMP:20260419T232849
CREATED:20251217T173622Z
LAST-MODIFIED:20251217T173622Z
UID:23646-1794596400-1794600000@tulsadogs.com
SUMMARY:General Meeting
DESCRIPTION:
URL:https://tulsadogs.com/events-calendar/general-meeting-10/
LOCATION:OK
END:VEVENT
BEGIN:VEVENT
DTSTART;VALUE=DATE:20261114
DTEND;VALUE=DATE:20261115
DTSTAMP:20260419T232849
CREATED:20251217T173657Z
LAST-MODIFIED:20251217T173657Z
UID:23648-1794614400-1794700799@tulsadogs.com
SUMMARY:Canine Good Citizen (CGC) / Fit Dog Walk
DESCRIPTION:
URL:https://tulsadogs.com/events-calendar/canine-good-citizen-cgc-fit-dog-walk-3/
LOCATION:OK
END:VEVENT
BEGIN:VEVENT
DTSTART;VALUE=DATE:20261116
DTEND;VALUE=DATE:20261121
DTSTAMP:20260419T232849
CREATED:20251217T173724Z
LAST-MODIFIED:20251217T173724Z
UID:23650-1794787200-1795219199@tulsadogs.com
SUMMARY:Fall Session Evaluations
DESCRIPTION:
URL:https://tulsadogs.com/events-calendar/fall-session-evaluations-3/
LOCATION:OK
END:VEVENT
BEGIN:VEVENT
DTSTART;TZID=America/Chicago:20261120T190000
DTEND;TZID=America/Chicago:20261120T200000
DTSTAMP:20260419T232849
CREATED:20251217T173756Z
LAST-MODIFIED:20251217T173756Z
UID:23652-1795201200-1795204800@tulsadogs.com
SUMMARY:Beginners Graduation
DESCRIPTION:
URL:https://tulsadogs.com/events-calendar/beginners-graduation-11/
LOCATION:OK
END:VEVENT
BEGIN:VEVENT
DTSTART;VALUE=DATE:20261121
DTEND;VALUE=DATE:20261122
DTSTAMP:20260419T232849
CREATED:20251217T173824Z
LAST-MODIFIED:20251217T173824Z
UID:23654-1795219200-1795305599@tulsadogs.com
SUMMARY:Community Canine (CGC-A)
DESCRIPTION:
URL:https://tulsadogs.com/events-calendar/community-canine-cgc-a-8/
LOCATION:OK
END:VEVENT
BEGIN:VEVENT
DTSTART;VALUE=DATE:20261204
DTEND;VALUE=DATE:20261207
DTSTAMP:20260419T232849
CREATED:20251217T173849Z
LAST-MODIFIED:20251226T181110Z
UID:23656-1796342400-1796601599@tulsadogs.com
SUMMARY:TDTC AKC Agility Trials
DESCRIPTION:
URL:https://tulsadogs.com/events-calendar/akc-agility-trials-2/
LOCATION:OK
END:VEVENT
BEGIN:VEVENT
DTSTART;TZID=America/Chicago:20261211T190000
DTEND;TZID=America/Chicago:20261211T200000
DTSTAMP:20260419T232849
CREATED:20251217T173915Z
LAST-MODIFIED:20251217T173915Z
UID:23658-1797015600-1797019200@tulsadogs.com
SUMMARY:Board Meeting
DESCRIPTION:
URL:https://tulsadogs.com/events-calendar/board-meeting-12/
LOCATION:OK
END:VEVENT
BEGIN:VEVENT
DTSTART;VALUE=DATE:20261212
DTEND;VALUE=DATE:20261213
DTSTAMP:20260419T232849
CREATED:20251217T174020Z
LAST-MODIFIED:20251217T174020Z
UID:23660-1797033600-1797119999@tulsadogs.com
SUMMARY:Christmas Party
DESCRIPTION:
URL:https://tulsadogs.com/events-calendar/christmas-party-2/
LOCATION:OK
END:VEVENT
END:VCALENDAR