BEGIN:VCALENDAR
VERSION:2.0
PRODID:-//Tulsa Dog Training Club - ECPv6.15.20//NONSGML v1.0//EN
CALSCALE:GREGORIAN
METHOD:PUBLISH
X-ORIGINAL-URL:https://tulsadogs.com
X-WR-CALDESC:Events for Tulsa Dog Training Club
REFRESH-INTERVAL;VALUE=DURATION:PT1H
X-Robots-Tag:noindex
X-PUBLISHED-TTL:PT1H
BEGIN:VTIMEZONE
TZID:America/Chicago
BEGIN:DAYLIGHT
TZOFFSETFROM:-0600
TZOFFSETTO:-0500
TZNAME:CDT
DTSTART:20250309T080000
END:DAYLIGHT
BEGIN:STANDARD
TZOFFSETFROM:-0500
TZOFFSETTO:-0600
TZNAME:CST
DTSTART:20251102T070000
END:STANDARD
BEGIN:DAYLIGHT
TZOFFSETFROM:-0600
TZOFFSETTO:-0500
TZNAME:CDT
DTSTART:20260308T080000
END:DAYLIGHT
BEGIN:STANDARD
TZOFFSETFROM:-0500
TZOFFSETTO:-0600
TZNAME:CST
DTSTART:20261101T070000
END:STANDARD
BEGIN:DAYLIGHT
TZOFFSETFROM:-0600
TZOFFSETTO:-0500
TZNAME:CDT
DTSTART:20270314T080000
END:DAYLIGHT
BEGIN:STANDARD
TZOFFSETFROM:-0500
TZOFFSETTO:-0600
TZNAME:CST
DTSTART:20271107T070000
END:STANDARD
END:VTIMEZONE
BEGIN:VEVENT
DTSTART;VALUE=DATE:20261116
DTEND;VALUE=DATE:20261121
DTSTAMP:20260420T011539
CREATED:20251217T173724Z
LAST-MODIFIED:20251217T173724Z
UID:23650-1794787200-1795219199@tulsadogs.com
SUMMARY:Fall Session Evaluations
DESCRIPTION:
URL:https://tulsadogs.com/events-calendar/fall-session-evaluations-3/
LOCATION:OK
END:VEVENT
BEGIN:VEVENT
DTSTART;TZID=America/Chicago:20261120T190000
DTEND;TZID=America/Chicago:20261120T200000
DTSTAMP:20260420T011539
CREATED:20251217T173756Z
LAST-MODIFIED:20251217T173756Z
UID:23652-1795201200-1795204800@tulsadogs.com
SUMMARY:Beginners Graduation
DESCRIPTION:
URL:https://tulsadogs.com/events-calendar/beginners-graduation-11/
LOCATION:OK
END:VEVENT
BEGIN:VEVENT
DTSTART;VALUE=DATE:20261121
DTEND;VALUE=DATE:20261122
DTSTAMP:20260420T011539
CREATED:20251217T173824Z
LAST-MODIFIED:20251217T173824Z
UID:23654-1795219200-1795305599@tulsadogs.com
SUMMARY:Community Canine (CGC-A)
DESCRIPTION:
URL:https://tulsadogs.com/events-calendar/community-canine-cgc-a-8/
LOCATION:OK
END:VEVENT
BEGIN:VEVENT
DTSTART;VALUE=DATE:20261204
DTEND;VALUE=DATE:20261207
DTSTAMP:20260420T011539
CREATED:20251217T173849Z
LAST-MODIFIED:20251226T181110Z
UID:23656-1796342400-1796601599@tulsadogs.com
SUMMARY:TDTC AKC Agility Trials
DESCRIPTION:
URL:https://tulsadogs.com/events-calendar/akc-agility-trials-2/
LOCATION:OK
END:VEVENT
BEGIN:VEVENT
DTSTART;TZID=America/Chicago:20261211T190000
DTEND;TZID=America/Chicago:20261211T200000
DTSTAMP:20260420T011539
CREATED:20251217T173915Z
LAST-MODIFIED:20251217T173915Z
UID:23658-1797015600-1797019200@tulsadogs.com
SUMMARY:Board Meeting
DESCRIPTION:
URL:https://tulsadogs.com/events-calendar/board-meeting-12/
LOCATION:OK
END:VEVENT
BEGIN:VEVENT
DTSTART;VALUE=DATE:20261212
DTEND;VALUE=DATE:20261213
DTSTAMP:20260420T011539
CREATED:20251217T174020Z
LAST-MODIFIED:20251217T174020Z
UID:23660-1797033600-1797119999@tulsadogs.com
SUMMARY:Christmas Party
DESCRIPTION:
URL:https://tulsadogs.com/events-calendar/christmas-party-2/
LOCATION:OK
END:VEVENT
END:VCALENDAR