BEGIN:VCALENDAR
VERSION:2.0
PRODID:-//Tulsa Dog Training Club - ECPv6.15.20//NONSGML v1.0//EN
CALSCALE:GREGORIAN
METHOD:PUBLISH
X-WR-CALNAME:Tulsa Dog Training Club
X-ORIGINAL-URL:https://tulsadogs.com
X-WR-CALDESC:Events for Tulsa Dog Training Club
REFRESH-INTERVAL;VALUE=DURATION:PT1H
X-Robots-Tag:noindex
X-PUBLISHED-TTL:PT1H
BEGIN:VTIMEZONE
TZID:America/Chicago
BEGIN:DAYLIGHT
TZOFFSETFROM:-0600
TZOFFSETTO:-0500
TZNAME:CDT
DTSTART:20230312T080000
END:DAYLIGHT
BEGIN:STANDARD
TZOFFSETFROM:-0500
TZOFFSETTO:-0600
TZNAME:CST
DTSTART:20231105T070000
END:STANDARD
BEGIN:DAYLIGHT
TZOFFSETFROM:-0600
TZOFFSETTO:-0500
TZNAME:CDT
DTSTART:20240310T080000
END:DAYLIGHT
BEGIN:STANDARD
TZOFFSETFROM:-0500
TZOFFSETTO:-0600
TZNAME:CST
DTSTART:20241103T070000
END:STANDARD
BEGIN:DAYLIGHT
TZOFFSETFROM:-0600
TZOFFSETTO:-0500
TZNAME:CDT
DTSTART:20250309T080000
END:DAYLIGHT
BEGIN:STANDARD
TZOFFSETFROM:-0500
TZOFFSETTO:-0600
TZNAME:CST
DTSTART:20251102T070000
END:STANDARD
END:VTIMEZONE
BEGIN:VEVENT
DTSTART;VALUE=DATE:20241025
DTEND;VALUE=DATE:20241026
DTSTAMP:20260419T142724
CREATED:20231205T211537Z
LAST-MODIFIED:20250307T050812Z
UID:21690-1729814400-1729900799@tulsadogs.com
SUMMARY:TDTC AKC Rally Trials
DESCRIPTION:Entry Method: First received \nALL BREED RALLY TRIALSThese trials will be held concurrently. \nFriday\, October 25\, 20248:00 am to 6:00 pm \n\nALL BREED OBEDIENCE TRIALSThese trials will be held consecutively. \nSaturday\, October 26\, 20247:00 am to 6:00 pm \nSunday\, October 27\, 20247:00 am to 3:00 pm \n			\n				Download Premium\n			\n			\n				\n				\n				\n				\n				\n				\n				\n				\n				\n				Rally is limited to eighty (80) entries per trial.Obedience is limited to eight (8) hours per judge per day. \nEntries will open at 12:00 p.m. (noon) on Monday\, September 16\, 2024\, at the Trial Secretary’s address. All entries received before this date will be returned. Overnight mail\, priority mail\, or certified mail must be sent with the “No Signature Required” waiver signed. Entries close at 12:00 p.m. (noon) on Friday\, October 11\, 2024\, after which time entries cannot be accepted\, canceled\, altered\, or substituted except as provided for in Chapter 11\, Section 6\, of the Rules Applying to Dog Shows.
URL:https://tulsadogs.com/events-calendar/tdtc-akc-rally-trials-6/
ATTACH;FMTTYPE=image/jpeg:https://tulsadogs.com/wp-content/uploads/2022/12/brayden-prato-U-p838gMFj4-unsplash-scaled.jpg
END:VEVENT
BEGIN:VEVENT
DTSTART;TZID=America/Chicago:20241019T141500
DTEND;TZID=America/Chicago:20241019T170000
DTSTAMP:20260419T142725
CREATED:20231205T202513Z
LAST-MODIFIED:20240521T173940Z
UID:21542-1729347300-1729357200@tulsadogs.com
SUMMARY:Show & Go
DESCRIPTION:
URL:https://tulsadogs.com/events-calendar/show-go-10-24/
LOCATION:Tulsa Dog Training Club\, 6307 S 107th E Ave\, Tulsa\, OK\, 74133\, United States
ATTACH;FMTTYPE=image/jpeg:https://tulsadogs.com/wp-content/uploads/2022/12/jordan-davis-JSfsK9VH4q8-unsplash-scaled.jpg
END:VEVENT
BEGIN:VEVENT
DTSTART;TZID=America/Chicago:20241012T080000
DTEND;TZID=America/Chicago:20241012T170000
DTSTAMP:20260419T142725
CREATED:20240722T215850Z
LAST-MODIFIED:20240722T220701Z
UID:22249-1728720000-1728752400@tulsadogs.com
SUMMARY:Scent Work Judge's Education Seminar
DESCRIPTION:Tulsa Dog Training Club will be holding an AKC Scent Work Judge’s Education Seminar on Saturday\, October 12\, 2024. \nThis one-day seminar satisfies the seminar option for new judge candidates and counts as continuing education for current judges. You must attend the entire day as a full participant to meet the AKC Scent Work seminar requirements. The seminar will be split between classroom instruction/discussion and hands-on activities. \nHands-on Learning\nParticipants acting as Judges and Stewards will break into groups to design searches for preselected classes and difficulty levels. After the demo dog runs the search\, the instructor will discuss the search design and hide placement with the group. The presenter will provide their evaluation. \nSpots are available for judges full participation spots as well as audit spots for those interested in furthering their Scent Work knowledge.\n			\n				Download Information Packet
URL:https://tulsadogs.com/events-calendar/scent-work-judges-education-seminar/
LOCATION:Tulsa Dog Training Club\, 6307 S 107th E Ave\, Tulsa\, OK\, 74133\, United States
ATTACH;FMTTYPE=image/jpeg:https://tulsadogs.com/wp-content/uploads/2024/07/professional-training-for-dogs-in-nosework-an-act-2024-02-21-16-55-32-utc-scaled.jpg
END:VEVENT
BEGIN:VEVENT
DTSTART;TZID=America/Chicago:20241004T190000
DTEND;TZID=America/Chicago:20241004T200000
DTSTAMP:20260419T142725
CREATED:20231205T214712Z
LAST-MODIFIED:20241001T210625Z
UID:21732-1728068400-1728072000@tulsadogs.com
SUMMARY:TDTC Board Meeting
DESCRIPTION:Begins at 7:00 p.m.\n			\n			\n				\n				\n				\n				\n				\n				\n				\n				\n				\n				The TDTC Board will meet tonight to discuss club business.
URL:https://tulsadogs.com/events-calendar/tdtc-board-meeting-17/
LOCATION:Tulsa Dog Training Club\, 6307 S 107th E Ave\, Tulsa\, OK\, 74133\, United States
ATTACH;FMTTYPE=image/jpeg:https://tulsadogs.com/wp-content/uploads/2022/12/avi-richards-aYHgchNOsGY-unsplash-scaled.jpg
END:VEVENT
BEGIN:VEVENT
DTSTART;TZID=America/Chicago:20240921T130000
DTEND;TZID=America/Chicago:20240921T143000
DTSTAMP:20260419T142725
CREATED:20231205T210735Z
LAST-MODIFIED:20240521T173955Z
UID:21663-1726923600-1726929000@tulsadogs.com
SUMMARY:Community Canine (GCG-A)
DESCRIPTION:AKC Community Canine is the advanced level of AKC’s Canine Good Citizen (CGC) program. \nAs with CGC\, AKC Community Canine has a 10-step test of skills that dogs must pass to earn the official AKC Community Canine title. This is a title that appears on the dog’s title record at AKC. \nAll skills on the test are tested on leash. The AKC Community Canine (CGCA) test may be done in a class\, at shows\, in pet stores or in the community. When the test is administered in community settings such as at a business or special event\, evaluators must have the necessary approval of the business owners\, etc. \nWhile Canine Good Citizen tests are simulations of real world skills\, (e.g.\, dog/handler walks through a “crowd” of evaluators in a ring)\, the goal of AKC Community Canine is to test the dog’s skills in a natural setting. For example\, rather than the dog being tested in a ring\, in AKC Community Canine\, the “walks through a crowd” test item will involve the dog walking through a real crowd at a dog show\, on a busy sidewalk\, in a therapy dog setting\, or at a training club. \nTo earn the AKC Community Canine title\, dogs must meet the following two requirements: \n\nThe CGC test and the AKC Community Canine test may be taken on the same day. However\, when taken on the same day\, both forms should be sent to AKC in one envelope so the CGC can be entered first.\nMust have an AKC number of one of 3 types (AKC registration number\, PAL number\, or AKC Canine Partners number). All dogs\, including mixed breeds\, can get an AKC number. The reason for the AKC number requirement is that this is how we create titles at AKC; we attach the titles to the dog’s number. \n\n			\n				Learn More on the AKC Website
URL:https://tulsadogs.com/events-calendar/community-canine-3/
LOCATION:Tulsa Dog Training Club\, 6307 S 107th E Ave\, Tulsa\, OK\, 74133\, United States
ATTACH;FMTTYPE=image/jpeg:https://tulsadogs.com/wp-content/uploads/2023/09/austin-kirk-QZenflkkwt0-unsplash-scaled.jpg
END:VEVENT
BEGIN:VEVENT
DTSTART;VALUE=DATE:20240916
DTEND;VALUE=DATE:20240921
DTSTAMP:20260419T142725
CREATED:20231205T203116Z
LAST-MODIFIED:20240521T174008Z
UID:21572-1726444800-1726876799@tulsadogs.com
SUMMARY:Fall Session Begins
DESCRIPTION:
URL:https://tulsadogs.com/events-calendar/fall-session-begins/
LOCATION:Tulsa Dog Training Club\, 6307 S 107th E Ave\, Tulsa\, OK\, 74133\, United States
ATTACH;FMTTYPE=image/jpeg:https://tulsadogs.com/wp-content/uploads/2019/06/sm_tdtc2019_r1_facebook.jpg
END:VEVENT
BEGIN:VEVENT
DTSTART;TZID=America/Chicago:20240913T190000
DTEND;TZID=America/Chicago:20240913T200000
DTSTAMP:20260419T142725
CREATED:20231205T202301Z
LAST-MODIFIED:20240521T174016Z
UID:21522-1726254000-1726257600@tulsadogs.com
SUMMARY:TDTC General Meeting
DESCRIPTION:
URL:https://tulsadogs.com/events-calendar/tdtc-general-meeting-16/
LOCATION:Tulsa Dog Training Club\, 6307 S 107th E Ave\, Tulsa\, OK\, 74133\, United States
ATTACH;FMTTYPE=image/jpeg:https://tulsadogs.com/wp-content/uploads/2022/12/matt-nelson-aI3EBLvcyu4-unsplash.jpg
END:VEVENT
BEGIN:VEVENT
DTSTART;VALUE=DATE:20240831
DTEND;VALUE=DATE:20240902
DTSTAMP:20260419T142725
CREATED:20231205T211245Z
LAST-MODIFIED:20250716T023619Z
UID:21683-1725062400-1725235199@tulsadogs.com
SUMMARY:TDTC AKC Rally Trials
DESCRIPTION:Saturday\, August 317:00 am to 5:00 pmTrial 1 starts at 8:00 amTrial 2 starts at 9:30 am \nSunday\, September 17:00 am to 5:00 pmTrial 1 starts at 8:00 amTrial 2 starts at 9:30 am \nRing Size: 40 feet X 50 feet \n			\n				Download Premium\n			\n			\n				\n				\n				\n				\n				\n				\n				\n				\n				\n				Rally is limited to eighty (80) entries per judge per trial. \nEntries are accepted on “first received” basis on or after Monday\, July 22\, 2024\, at 12:00 noon.  Overnight mail\, priority mail\, or certified mail must be sent with the “No Signature Required” waiver signed. \nEntries close on Friday\, August 16\, 2024\, at 12:00 noon\, after which time entries cannot be accepted\, canceled\, altered\, or substituted except as provided for in Chapter 11\, Section 6 of the Dog Show Rules. \nPlease Note: Refund of entry fees (75% of entry fee) for bitches entered in Rally that come in season after closing date of this show may be obtained provided that a veterinarian’s certificate and a request in writing is received by the Show Secretary no later than thirty (30) minutes prior to the show. \nTransfers will be allowed at this trial per AKC Regulations.
URL:https://tulsadogs.com/events-calendar/tdtc-akc-rally-trials-5/
ATTACH;FMTTYPE=image/jpeg:https://tulsadogs.com/wp-content/uploads/2022/12/brayden-prato-U-p838gMFj4-unsplash-scaled.jpg
END:VEVENT
BEGIN:VEVENT
DTSTART;TZID=America/Chicago:20240830T190000
DTEND;TZID=America/Chicago:20240830T200000
DTSTAMP:20260419T142725
CREATED:20231205T214156Z
LAST-MODIFIED:20240521T174025Z
UID:21723-1725044400-1725048000@tulsadogs.com
SUMMARY:Beginners' Graduation
DESCRIPTION:Join us in celebrating your dog’s Beginners Obedience graduation! We’ll have demonstrations of other classes and membership information available as well.
URL:https://tulsadogs.com/events-calendar/beginners-graduation-2/
LOCATION:Tulsa Dog Training Club\, 6307 S 107th E Ave\, Tulsa\, OK\, 74133\, United States
ATTACH;FMTTYPE=image/jpeg:https://tulsadogs.com/wp-content/uploads/2022/12/rodolfo-sanches-carvalho-6yOg6cEHmgs-unsplash-scaled.jpg
END:VEVENT
BEGIN:VEVENT
DTSTART;VALUE=DATE:20240826
DTEND;VALUE=DATE:20240831
DTSTAMP:20260419T142725
CREATED:20231205T203007Z
LAST-MODIFIED:20240521T174033Z
UID:21567-1724630400-1725062399@tulsadogs.com
SUMMARY:Summer Session Evaluations
DESCRIPTION:
URL:https://tulsadogs.com/events-calendar/summer-session-evaluations/
LOCATION:Tulsa Dog Training Club\, 6307 S 107th E Ave\, Tulsa\, OK\, 74133\, United States
ATTACH;FMTTYPE=image/jpeg:https://tulsadogs.com/wp-content/uploads/2019/06/sm_tdtc2019_r1_facebook.jpg
END:VEVENT
BEGIN:VEVENT
DTSTART;TZID=America/Chicago:20240824T130000
DTEND;TZID=America/Chicago:20240824T143000
DTSTAMP:20260419T142725
CREATED:20231205T210637Z
LAST-MODIFIED:20240521T174041Z
UID:21660-1724504400-1724509800@tulsadogs.com
SUMMARY:Canine Good Citizen
DESCRIPTION:The AKC Canine Good Citizen™ (CGC) program provides a perfect framework for training your dog to become a polite member of society. Based on you and your dog’s training needs\, you have multiple options to get started. \nYou can teach your dog the 10 CGC skills yourself\, work with a CGC trainer or attend a CGC training class where the test is given at the end of graduation. \nYour dog can pass the CGC test and earn CGC as a certificate only\, or you may choose to earn CGC as an official AKC title (includes certificate). With official AKC titles\, the title is listed on the dog’s Title Record\, and “CGC” may be listed after the dog’s name (e.g.\, “Princess\, CGC”). \nTo earn CGC as an official title\, dogs must have one of the 3 types of registration: 1) AKC number\, 2) Purebred Alternative Listing number (PAL)\, or 3) AKC Canine Partners number (For mixed-breed dogs). \nIf you apply for an AKC Canine Partners number at the same time as your dog’s Canine Good Citizen award\, a discount will be applied. Send this specialized CGC Form at the same time as your AKC Canine Partners Registration in the same envelope or email to receive the discount.\n			\n				Learn More on the AKC Website
URL:https://tulsadogs.com/events-calendar/canine-good-citizen-3/
LOCATION:Tulsa Dog Training Club\, 6307 S 107th E Ave\, Tulsa\, OK\, 74133\, United States
ATTACH;FMTTYPE=image/jpeg:https://tulsadogs.com/wp-content/uploads/2023/09/austin-kirk-QZenflkkwt0-unsplash-scaled.jpg
END:VEVENT
BEGIN:VEVENT
DTSTART;TZID=America/Chicago:20240809T190000
DTEND;TZID=America/Chicago:20240809T200000
DTSTAMP:20260419T142725
CREATED:20231205T214358Z
LAST-MODIFIED:20240521T173629Z
UID:21729-1723230000-1723233600@tulsadogs.com
SUMMARY:TDTC Board Meeting
DESCRIPTION:Begins at 7:00 p.m.\n			\n			\n				\n				\n				\n				\n				\n				\n				\n				\n				\n				The TDTC Board will meet tonight to discuss club business.
URL:https://tulsadogs.com/events-calendar/tdtc-board-meeting-16/
LOCATION:Tulsa Dog Training Club\, 6307 S 107th E Ave\, Tulsa\, OK\, 74133\, United States
ATTACH;FMTTYPE=image/jpeg:https://tulsadogs.com/wp-content/uploads/2022/12/avi-richards-aYHgchNOsGY-unsplash-scaled.jpg
END:VEVENT
BEGIN:VEVENT
DTSTART;VALUE=DATE:20240802
DTEND;VALUE=DATE:20240805
DTSTAMP:20260419T142725
CREATED:20231205T210949Z
LAST-MODIFIED:20250730T003150Z
UID:21674-1722556800-1722815999@tulsadogs.com
SUMMARY:TAC UKC Agility Trials
DESCRIPTION:
URL:https://tulsadogs.com/events-calendar/tac-ukc-agility-trials-5/
CATEGORIES:Tulsa Agility Club (TAC)
ATTACH;FMTTYPE=image/jpeg:https://tulsadogs.com/wp-content/uploads/2019/06/sm_tdtc2019_r1_facebook.jpg
END:VEVENT
BEGIN:VEVENT
DTSTART;VALUE=DATE:20240802
DTEND;VALUE=DATE:20240803
DTSTAMP:20260419T142725
CREATED:20231205T211059Z
LAST-MODIFIED:20240521T173616Z
UID:21680-1722556800-1722643199@tulsadogs.com
SUMMARY:Fun Run
DESCRIPTION:
URL:https://tulsadogs.com/events-calendar/fun-run-2/
ATTACH;FMTTYPE=image/jpeg:https://tulsadogs.com/wp-content/uploads/2019/06/sm_tdtc2019_r1_facebook.jpg
END:VEVENT
BEGIN:VEVENT
DTSTART;TZID=America/Chicago:20240713T190000
DTEND;TZID=America/Chicago:20240713T200000
DTSTAMP:20260419T142725
CREATED:20231205T202150Z
LAST-MODIFIED:20240521T173610Z
UID:21518-1720897200-1720900800@tulsadogs.com
SUMMARY:TDTC General Meeting & Picnic
DESCRIPTION:
URL:https://tulsadogs.com/events-calendar/tdtc-general-meeting-15/
LOCATION:Tulsa Dog Training Club\, 6307 S 107th E Ave\, Tulsa\, OK\, 74133\, United States
ATTACH;FMTTYPE=image/jpeg:https://tulsadogs.com/wp-content/uploads/2022/12/matt-nelson-aI3EBLvcyu4-unsplash.jpg
END:VEVENT
BEGIN:VEVENT
DTSTART;VALUE=DATE:20240624
DTEND;VALUE=DATE:20240629
DTSTAMP:20260419T142725
CREATED:20231205T202929Z
LAST-MODIFIED:20240521T173603Z
UID:21562-1719187200-1719619199@tulsadogs.com
SUMMARY:Summer Session Begins
DESCRIPTION:
URL:https://tulsadogs.com/events-calendar/summer-session-begins/
LOCATION:Tulsa Dog Training Club\, 6307 S 107th E Ave\, Tulsa\, OK\, 74133\, United States
ATTACH;FMTTYPE=image/jpeg:https://tulsadogs.com/wp-content/uploads/2019/06/sm_tdtc2019_r1_facebook.jpg
END:VEVENT
BEGIN:VEVENT
DTSTART;VALUE=DATE:20240621
DTEND;VALUE=DATE:20240624
DTSTAMP:20260419T142725
CREATED:20231205T205850Z
LAST-MODIFIED:20240426T020302Z
UID:21634-1718928000-1719187199@tulsadogs.com
SUMMARY:TDTC AKC Scent Work Trials
DESCRIPTION:American Kennel Club Scent Work Trials – June 21-23\, 2024 \nEntries open on Wednesday\, May 6\, 2024 \nEntries close on Wednesday\, June 7\, 2024 \nHandler Discrimination on Friday limited to 35 entries per trial. \nEntries for Saturday and Sunday are limited to 125 entries per judge. \nDownload AKC Scent Work Trial Premium HERE
URL:https://tulsadogs.com/events-calendar/tdtc-akc-scent-work-trials-2/
ATTACH;FMTTYPE=image/jpeg:https://tulsadogs.com/wp-content/uploads/2019/06/sm_tdtc2019_r1_facebook.jpg
END:VEVENT
BEGIN:VEVENT
DTSTART;TZID=America/Chicago:20240615T130000
DTEND;TZID=America/Chicago:20240615T143000
DTSTAMP:20260419T142725
CREATED:20231205T210529Z
LAST-MODIFIED:20240521T173547Z
UID:21652-1718456400-1718461800@tulsadogs.com
SUMMARY:Community Canine (GCG-A)
DESCRIPTION:AKC Community Canine is the advanced level of AKC’s Canine Good Citizen (CGC) program. \nAs with CGC\, AKC Community Canine has a 10-step test of skills that dogs must pass to earn the official AKC Community Canine title. This is a title that appears on the dog’s title record at AKC. \nAll skills on the test are tested on leash. The AKC Community Canine (CGCA) test may be done in a class\, at shows\, in pet stores or in the community. When the test is administered in community settings such as at a business or special event\, evaluators must have the necessary approval of the business owners\, etc. \nWhile Canine Good Citizen tests are simulations of real world skills\, (e.g.\, dog/handler walks through a “crowd” of evaluators in a ring)\, the goal of AKC Community Canine is to test the dog’s skills in a natural setting. For example\, rather than the dog being tested in a ring\, in AKC Community Canine\, the “walks through a crowd” test item will involve the dog walking through a real crowd at a dog show\, on a busy sidewalk\, in a therapy dog setting\, or at a training club. \nTo earn the AKC Community Canine title\, dogs must meet the following two requirements: \n\nThe CGC test and the AKC Community Canine test may be taken on the same day. However\, when taken on the same day\, both forms should be sent to AKC in one envelope so the CGC can be entered first.\nMust have an AKC number of one of 3 types (AKC registration number\, PAL number\, or AKC Canine Partners number). All dogs\, including mixed breeds\, can get an AKC number. The reason for the AKC number requirement is that this is how we create titles at AKC; we attach the titles to the dog’s number. \n\n			\n				Learn More on the AKC Website
URL:https://tulsadogs.com/events-calendar/community-canine-2/
LOCATION:Tulsa Dog Training Club\, 6307 S 107th E Ave\, Tulsa\, OK\, 74133\, United States
ATTACH;FMTTYPE=image/jpeg:https://tulsadogs.com/wp-content/uploads/2023/09/austin-kirk-QZenflkkwt0-unsplash-scaled.jpg
END:VEVENT
BEGIN:VEVENT
DTSTART;TZID=America/Chicago:20240614T190000
DTEND;TZID=America/Chicago:20240614T200000
DTSTAMP:20260419T142725
CREATED:20231205T214256Z
LAST-MODIFIED:20240521T173539Z
UID:21726-1718391600-1718395200@tulsadogs.com
SUMMARY:TDTC Board Meeting
DESCRIPTION:Begins at 7:00 p.m.\n			\n			\n				\n				\n				\n				\n				\n				\n				\n				\n				\n				The TDTC Board will meet tonight to discuss club business.
URL:https://tulsadogs.com/events-calendar/tdtc-board-meeting-15/
LOCATION:Tulsa Dog Training Club\, 6307 S 107th E Ave\, Tulsa\, OK\, 74133\, United States
ATTACH;FMTTYPE=image/jpeg:https://tulsadogs.com/wp-content/uploads/2022/12/avi-richards-aYHgchNOsGY-unsplash-scaled.jpg
END:VEVENT
BEGIN:VEVENT
DTSTART;VALUE=DATE:20240607
DTEND;VALUE=DATE:20240610
DTSTAMP:20260419T142725
CREATED:20231205T210022Z
LAST-MODIFIED:20250730T003156Z
UID:21638-1717718400-1717977599@tulsadogs.com
SUMMARY:TAC UKC Nose Work Trials
DESCRIPTION:
URL:https://tulsadogs.com/events-calendar/tac-ukc-nose-work-trials-5/
CATEGORIES:Tulsa Agility Club (TAC)
ATTACH;FMTTYPE=image/jpeg:https://tulsadogs.com/wp-content/uploads/2019/06/sm_tdtc2019_r1_facebook.jpg
END:VEVENT
BEGIN:VEVENT
DTSTART;VALUE=DATE:20240603
DTEND;VALUE=DATE:20240608
DTSTAMP:20260419T142725
CREATED:20231205T202836Z
LAST-MODIFIED:20240521T173500Z
UID:21558-1717372800-1717804799@tulsadogs.com
SUMMARY:Spring Session Evaluations
DESCRIPTION:
URL:https://tulsadogs.com/events-calendar/spring-session-evaluations/
LOCATION:Tulsa Dog Training Club\, 6307 S 107th E Ave\, Tulsa\, OK\, 74133\, United States
ATTACH;FMTTYPE=image/jpeg:https://tulsadogs.com/wp-content/uploads/2019/06/sm_tdtc2019_r1_facebook.jpg
END:VEVENT
BEGIN:VEVENT
DTSTART;TZID=America/Chicago:20240601T130000
DTEND;TZID=America/Chicago:20240601T143000
DTSTAMP:20260419T142725
CREATED:20231205T210414Z
LAST-MODIFIED:20240521T173434Z
UID:21649-1717246800-1717252200@tulsadogs.com
SUMMARY:Canine Good Citizen
DESCRIPTION:The AKC Canine Good Citizen™ (CGC) program provides a perfect framework for training your dog to become a polite member of society. Based on you and your dog’s training needs\, you have multiple options to get started. \nYou can teach your dog the 10 CGC skills yourself\, work with a CGC trainer or attend a CGC training class where the test is given at the end of graduation. \nYour dog can pass the CGC test and earn CGC as a certificate only\, or you may choose to earn CGC as an official AKC title (includes certificate). With official AKC titles\, the title is listed on the dog’s Title Record\, and “CGC” may be listed after the dog’s name (e.g.\, “Princess\, CGC”). \nTo earn CGC as an official title\, dogs must have one of the 3 types of registration: 1) AKC number\, 2) Purebred Alternative Listing number (PAL)\, or 3) AKC Canine Partners number (For mixed-breed dogs). \nIf you apply for an AKC Canine Partners number at the same time as your dog’s Canine Good Citizen award\, a discount will be applied. Send this specialized CGC Form at the same time as your AKC Canine Partners Registration in the same envelope or email to receive the discount.\n			\n				Learn More on the AKC Website
URL:https://tulsadogs.com/events-calendar/canine-good-citizen-2/
ATTACH;FMTTYPE=image/jpeg:https://tulsadogs.com/wp-content/uploads/2023/09/austin-kirk-QZenflkkwt0-unsplash-scaled.jpg
END:VEVENT
BEGIN:VEVENT
DTSTART;TZID=America/Chicago:20240510T190000
DTEND;TZID=America/Chicago:20240510T200000
DTSTAMP:20260419T142725
CREATED:20231205T202055Z
LAST-MODIFIED:20240521T173337Z
UID:21513-1715367600-1715371200@tulsadogs.com
SUMMARY:TDTC General Meeting
DESCRIPTION:
URL:https://tulsadogs.com/events-calendar/tdtc-general-meeting-14/
LOCATION:Tulsa Dog Training Club\, 6307 S 107th E Ave\, Tulsa\, OK\, 74133\, United States
ATTACH;FMTTYPE=image/jpeg:https://tulsadogs.com/wp-content/uploads/2022/12/matt-nelson-aI3EBLvcyu4-unsplash.jpg
END:VEVENT
BEGIN:VEVENT
DTSTART;VALUE=DATE:20240426
DTEND;VALUE=DATE:20240427
DTSTAMP:20260419T142725
CREATED:20231205T212242Z
LAST-MODIFIED:20231205T212450Z
UID:21716-1714089600-1714175999@tulsadogs.com
SUMMARY:Natural State Golden Retriever Club Seminar
DESCRIPTION:
URL:https://tulsadogs.com/events-calendar/natural-state-golden-retriever-club-seminar/
ATTACH;FMTTYPE=image/jpeg:https://tulsadogs.com/wp-content/uploads/2023/12/angel-luciano-U-aQ76kHWqc-unsplash-scaled.jpg
END:VEVENT
BEGIN:VEVENT
DTSTART;VALUE=DATE:20240419
DTEND;VALUE=DATE:20240422
DTSTAMP:20260419T142725
CREATED:20231205T205641Z
LAST-MODIFIED:20250730T003203Z
UID:21626-1713484800-1713743999@tulsadogs.com
SUMMARY:TAC UKC Nose Work Trials
DESCRIPTION:
URL:https://tulsadogs.com/events-calendar/tac-ukc-nose-work-trials-4/
CATEGORIES:Tulsa Agility Club (TAC)
ATTACH;FMTTYPE=image/jpeg:https://tulsadogs.com/wp-content/uploads/2019/06/sm_tdtc2019_r1_facebook.jpg
END:VEVENT
END:VCALENDAR