BEGIN:VCALENDAR
VERSION:2.0
PRODID:-//Tulsa Dog Training Club - ECPv6.15.20//NONSGML v1.0//EN
CALSCALE:GREGORIAN
METHOD:PUBLISH
X-WR-CALNAME:Tulsa Dog Training Club
X-ORIGINAL-URL:https://tulsadogs.com
X-WR-CALDESC:Events for Tulsa Dog Training Club
REFRESH-INTERVAL;VALUE=DURATION:PT1H
X-Robots-Tag:noindex
X-PUBLISHED-TTL:PT1H
BEGIN:VTIMEZONE
TZID:America/Chicago
BEGIN:DAYLIGHT
TZOFFSETFROM:-0600
TZOFFSETTO:-0500
TZNAME:CDT
DTSTART:20230312T080000
END:DAYLIGHT
BEGIN:STANDARD
TZOFFSETFROM:-0500
TZOFFSETTO:-0600
TZNAME:CST
DTSTART:20231105T070000
END:STANDARD
BEGIN:DAYLIGHT
TZOFFSETFROM:-0600
TZOFFSETTO:-0500
TZNAME:CDT
DTSTART:20240310T080000
END:DAYLIGHT
BEGIN:STANDARD
TZOFFSETFROM:-0500
TZOFFSETTO:-0600
TZNAME:CST
DTSTART:20241103T070000
END:STANDARD
BEGIN:DAYLIGHT
TZOFFSETFROM:-0600
TZOFFSETTO:-0500
TZNAME:CDT
DTSTART:20250309T080000
END:DAYLIGHT
BEGIN:STANDARD
TZOFFSETFROM:-0500
TZOFFSETTO:-0600
TZNAME:CST
DTSTART:20251102T070000
END:STANDARD
END:VTIMEZONE
BEGIN:VEVENT
DTSTART;VALUE=DATE:20240426
DTEND;VALUE=DATE:20240427
DTSTAMP:20260420T000412
CREATED:20231205T212242Z
LAST-MODIFIED:20231205T212450Z
UID:21716-1714089600-1714175999@tulsadogs.com
SUMMARY:Natural State Golden Retriever Club Seminar
DESCRIPTION:
URL:https://tulsadogs.com/events-calendar/natural-state-golden-retriever-club-seminar/
ATTACH;FMTTYPE=image/jpeg:https://tulsadogs.com/wp-content/uploads/2023/12/angel-luciano-U-aQ76kHWqc-unsplash-scaled.jpg
END:VEVENT
BEGIN:VEVENT
DTSTART;VALUE=DATE:20240419
DTEND;VALUE=DATE:20240422
DTSTAMP:20260420T000412
CREATED:20231205T205641Z
LAST-MODIFIED:20250730T003203Z
UID:21626-1713484800-1713743999@tulsadogs.com
SUMMARY:TAC UKC Nose Work Trials
DESCRIPTION:
URL:https://tulsadogs.com/events-calendar/tac-ukc-nose-work-trials-4/
CATEGORIES:Tulsa Agility Club (TAC)
ATTACH;FMTTYPE=image/jpeg:https://tulsadogs.com/wp-content/uploads/2019/06/sm_tdtc2019_r1_facebook.jpg
END:VEVENT
END:VCALENDAR