BEGIN:VCALENDAR
VERSION:2.0
PRODID:-//Tulsa Dog Training Club - ECPv6.15.20//NONSGML v1.0//EN
CALSCALE:GREGORIAN
METHOD:PUBLISH
X-WR-CALNAME:Tulsa Dog Training Club
X-ORIGINAL-URL:https://tulsadogs.com
X-WR-CALDESC:Events for Tulsa Dog Training Club
REFRESH-INTERVAL;VALUE=DURATION:PT1H
X-Robots-Tag:noindex
X-PUBLISHED-TTL:PT1H
BEGIN:VTIMEZONE
TZID:America/Chicago
BEGIN:DAYLIGHT
TZOFFSETFROM:-0600
TZOFFSETTO:-0500
TZNAME:CDT
DTSTART:20230312T080000
END:DAYLIGHT
BEGIN:STANDARD
TZOFFSETFROM:-0500
TZOFFSETTO:-0600
TZNAME:CST
DTSTART:20231105T070000
END:STANDARD
BEGIN:DAYLIGHT
TZOFFSETFROM:-0600
TZOFFSETTO:-0500
TZNAME:CDT
DTSTART:20240310T080000
END:DAYLIGHT
BEGIN:STANDARD
TZOFFSETFROM:-0500
TZOFFSETTO:-0600
TZNAME:CST
DTSTART:20241103T070000
END:STANDARD
BEGIN:DAYLIGHT
TZOFFSETFROM:-0600
TZOFFSETTO:-0500
TZNAME:CDT
DTSTART:20250309T080000
END:DAYLIGHT
BEGIN:STANDARD
TZOFFSETFROM:-0500
TZOFFSETTO:-0600
TZNAME:CST
DTSTART:20251102T070000
END:STANDARD
END:VTIMEZONE
BEGIN:VEVENT
DTSTART;TZID=America/Chicago:20241004T190000
DTEND;TZID=America/Chicago:20241004T200000
DTSTAMP:20260419T104248
CREATED:20231205T214712Z
LAST-MODIFIED:20241001T210625Z
UID:21732-1728068400-1728072000@tulsadogs.com
SUMMARY:TDTC Board Meeting
DESCRIPTION:Begins at 7:00 p.m.\n			\n			\n				\n				\n				\n				\n				\n				\n				\n				\n				\n				The TDTC Board will meet tonight to discuss club business.
URL:https://tulsadogs.com/events-calendar/tdtc-board-meeting-17/
LOCATION:Tulsa Dog Training Club\, 6307 S 107th E Ave\, Tulsa\, OK\, 74133\, United States
ATTACH;FMTTYPE=image/jpeg:https://tulsadogs.com/wp-content/uploads/2022/12/avi-richards-aYHgchNOsGY-unsplash-scaled.jpg
END:VEVENT
BEGIN:VEVENT
DTSTART;TZID=America/Chicago:20241012T080000
DTEND;TZID=America/Chicago:20241012T170000
DTSTAMP:20260419T104248
CREATED:20240722T215850Z
LAST-MODIFIED:20240722T220701Z
UID:22249-1728720000-1728752400@tulsadogs.com
SUMMARY:Scent Work Judge's Education Seminar
DESCRIPTION:Tulsa Dog Training Club will be holding an AKC Scent Work Judge’s Education Seminar on Saturday\, October 12\, 2024. \nThis one-day seminar satisfies the seminar option for new judge candidates and counts as continuing education for current judges. You must attend the entire day as a full participant to meet the AKC Scent Work seminar requirements. The seminar will be split between classroom instruction/discussion and hands-on activities. \nHands-on Learning\nParticipants acting as Judges and Stewards will break into groups to design searches for preselected classes and difficulty levels. After the demo dog runs the search\, the instructor will discuss the search design and hide placement with the group. The presenter will provide their evaluation. \nSpots are available for judges full participation spots as well as audit spots for those interested in furthering their Scent Work knowledge.\n			\n				Download Information Packet
URL:https://tulsadogs.com/events-calendar/scent-work-judges-education-seminar/
LOCATION:Tulsa Dog Training Club\, 6307 S 107th E Ave\, Tulsa\, OK\, 74133\, United States
ATTACH;FMTTYPE=image/jpeg:https://tulsadogs.com/wp-content/uploads/2024/07/professional-training-for-dogs-in-nosework-an-act-2024-02-21-16-55-32-utc-scaled.jpg
END:VEVENT
BEGIN:VEVENT
DTSTART;TZID=America/Chicago:20241019T141500
DTEND;TZID=America/Chicago:20241019T170000
DTSTAMP:20260419T104248
CREATED:20231205T202513Z
LAST-MODIFIED:20240521T173940Z
UID:21542-1729347300-1729357200@tulsadogs.com
SUMMARY:Show & Go
DESCRIPTION:
URL:https://tulsadogs.com/events-calendar/show-go-10-24/
LOCATION:Tulsa Dog Training Club\, 6307 S 107th E Ave\, Tulsa\, OK\, 74133\, United States
ATTACH;FMTTYPE=image/jpeg:https://tulsadogs.com/wp-content/uploads/2022/12/jordan-davis-JSfsK9VH4q8-unsplash-scaled.jpg
END:VEVENT
BEGIN:VEVENT
DTSTART;VALUE=DATE:20241025
DTEND;VALUE=DATE:20241026
DTSTAMP:20260419T104248
CREATED:20231205T211537Z
LAST-MODIFIED:20250307T050812Z
UID:21690-1729814400-1729900799@tulsadogs.com
SUMMARY:TDTC AKC Rally Trials
DESCRIPTION:Entry Method: First received \nALL BREED RALLY TRIALSThese trials will be held concurrently. \nFriday\, October 25\, 20248:00 am to 6:00 pm \n\nALL BREED OBEDIENCE TRIALSThese trials will be held consecutively. \nSaturday\, October 26\, 20247:00 am to 6:00 pm \nSunday\, October 27\, 20247:00 am to 3:00 pm \n			\n				Download Premium\n			\n			\n				\n				\n				\n				\n				\n				\n				\n				\n				\n				Rally is limited to eighty (80) entries per trial.Obedience is limited to eight (8) hours per judge per day. \nEntries will open at 12:00 p.m. (noon) on Monday\, September 16\, 2024\, at the Trial Secretary’s address. All entries received before this date will be returned. Overnight mail\, priority mail\, or certified mail must be sent with the “No Signature Required” waiver signed. Entries close at 12:00 p.m. (noon) on Friday\, October 11\, 2024\, after which time entries cannot be accepted\, canceled\, altered\, or substituted except as provided for in Chapter 11\, Section 6\, of the Rules Applying to Dog Shows.
URL:https://tulsadogs.com/events-calendar/tdtc-akc-rally-trials-6/
ATTACH;FMTTYPE=image/jpeg:https://tulsadogs.com/wp-content/uploads/2022/12/brayden-prato-U-p838gMFj4-unsplash-scaled.jpg
END:VEVENT
BEGIN:VEVENT
DTSTART;VALUE=DATE:20241026
DTEND;VALUE=DATE:20241028
DTSTAMP:20260419T104248
CREATED:20231205T211652Z
LAST-MODIFIED:20240330T010904Z
UID:21697-1729900800-1730073599@tulsadogs.com
SUMMARY:TDTC AKC Obedience Trials
DESCRIPTION:
URL:https://tulsadogs.com/events-calendar/tdtc-akc-obedience-trials-4/
ATTACH;FMTTYPE=image/jpeg:https://tulsadogs.com/wp-content/uploads/2022/12/brayden-prato-U-p838gMFj4-unsplash-scaled.jpg
END:VEVENT
END:VCALENDAR